Package: HarmonizedTCGAData Version: 1.31.0 Command: /home/biocbuild/bbs-3.22-bioc/R/bin/R CMD INSTALL HarmonizedTCGAData StartedAt: 2025-10-09 10:56:48 -0400 (Thu, 09 Oct 2025) EndedAt: 2025-10-09 10:57:02 -0400 (Thu, 09 Oct 2025) EllapsedTime: 14.1 seconds RetCode: 0 Status: OK