Package: HiBED Version: 1.8.0 Command: /home/biocbuild/bbs-3.22-bioc/R/bin/R CMD build --keep-empty-dirs --no-resave-data HiBED StartedAt: 2025-11-20 11:26:28 -0500 (Thu, 20 Nov 2025) EndedAt: 2025-11-20 11:27:39 -0500 (Thu, 20 Nov 2025) EllapsedTime: 71.1 seconds RetCode: 0 Status: OK PackageFile: HiBED_1.8.0.tar.gz PackageFileSize: 40.93 KiB