Package: HiBED Version: 1.8.0 Command: /home/biocbuild/bbs-3.22-bioc/R/bin/R CMD INSTALL HiBED StartedAt: 2025-11-20 11:04:48 -0500 (Thu, 20 Nov 2025) EndedAt: 2025-11-20 11:05:39 -0500 (Thu, 20 Nov 2025) EllapsedTime: 50.6 seconds RetCode: 0 Status: OK