Package: IHWpaper Version: 1.38.0 Command: /home/biocbuild/bbs-3.22-bioc/R/bin/R CMD build --keep-empty-dirs --no-resave-data IHWpaper StartedAt: 2025-11-20 11:27:55 -0500 (Thu, 20 Nov 2025) EndedAt: 2025-11-20 11:31:34 -0500 (Thu, 20 Nov 2025) EllapsedTime: 218.8 seconds RetCode: 0 Status: OK PackageFile: IHWpaper_1.38.0.tar.gz PackageFileSize: 75.42 MiB