Package: IlluminaDataTestFiles Version: 1.48.0 Command: /home/biocbuild/bbs-3.22-bioc/R/bin/R CMD build --keep-empty-dirs --no-resave-data IlluminaDataTestFiles StartedAt: 2025-11-20 11:28:03 -0500 (Thu, 20 Nov 2025) EndedAt: 2025-11-20 11:28:06 -0500 (Thu, 20 Nov 2025) EllapsedTime: 3.6 seconds RetCode: 0 Status: OK PackageFile: IlluminaDataTestFiles_1.48.0.tar.gz PackageFileSize: 23.69 MiB