Package: KEGGandMetacoreDzPathwaysGEO Version: 1.30.0 Command: /home/biocbuild/bbs-3.22-bioc/R/bin/R CMD INSTALL KEGGandMetacoreDzPathwaysGEO StartedAt: 2025-11-18 10:56:53 -0500 (Tue, 18 Nov 2025) EndedAt: 2025-11-18 10:56:55 -0500 (Tue, 18 Nov 2025) EllapsedTime: 2.0 seconds RetCode: 0 Status: OK