Package: LegATo Version: 1.3.0 Command: /home/biocbuild/bbs-3.22-bioc/R/bin/R CMD build --keep-empty-dirs --no-resave-data LegATo StartedAt: 2025-10-16 11:25:56 -0400 (Thu, 16 Oct 2025) EndedAt: 2025-10-16 11:27:41 -0400 (Thu, 16 Oct 2025) EllapsedTime: 104.8 seconds RetCode: 0 Status: OK PackageFile: LegATo_1.3.0.tar.gz PackageFileSize: 1.236 MiB