Package: LegATo Version: 1.3.0 Command: /home/biocbuild/bbs-3.22-bioc/R/bin/R CMD INSTALL LegATo StartedAt: 2025-10-16 11:05:24 -0400 (Thu, 16 Oct 2025) EndedAt: 2025-10-16 11:05:47 -0400 (Thu, 16 Oct 2025) EllapsedTime: 22.9 seconds RetCode: 0 Status: OK