Package: LungCancerLines Version: 0.47.0 Command: /home/biocbuild/bbs-3.22-bioc/R/bin/R CMD INSTALL LungCancerLines StartedAt: 2025-10-23 11:01:59 -0400 (Thu, 23 Oct 2025) EndedAt: 2025-10-23 11:02:09 -0400 (Thu, 23 Oct 2025) EllapsedTime: 10.2 seconds RetCode: 0 Status: OK