Package: MethylAidData Version: 1.42.0 Command: /home/biocbuild/bbs-3.22-bioc/R/bin/R CMD build --keep-empty-dirs --no-resave-data MethylAidData StartedAt: 2025-11-20 11:32:46 -0500 (Thu, 20 Nov 2025) EndedAt: 2025-11-20 11:33:23 -0500 (Thu, 20 Nov 2025) EllapsedTime: 37.0 seconds RetCode: 0 Status: OK PackageFile: MethylAidData_1.42.0.tar.gz PackageFileSize: 20.97 MiB