Package: MouseAgingData Version: 1.6.0 Command: /home/biocbuild/bbs-3.22-bioc/R/bin/R CMD build --keep-empty-dirs --no-resave-data MouseAgingData StartedAt: 2025-11-18 11:50:14 -0500 (Tue, 18 Nov 2025) EndedAt: 2025-11-18 11:51:32 -0500 (Tue, 18 Nov 2025) EllapsedTime: 78.0 seconds RetCode: 0 Status: OK PackageFile: MouseAgingData_1.6.0.tar.gz PackageFileSize: 1.349 MiB