Package: MouseAgingData Version: 1.6.0 Command: /home/biocbuild/bbs-3.22-bioc/R/bin/R CMD INSTALL MouseAgingData StartedAt: 2025-11-18 10:59:02 -0500 (Tue, 18 Nov 2025) EndedAt: 2025-11-18 10:59:22 -0500 (Tue, 18 Nov 2025) EllapsedTime: 20.2 seconds RetCode: 0 Status: OK