Package: ObMiTi Version: 1.17.0 Command: /home/biocbuild/bbs-3.22-bioc/R/bin/R CMD build --keep-empty-dirs --no-resave-data ObMiTi StartedAt: 2025-10-16 11:33:32 -0400 (Thu, 16 Oct 2025) EndedAt: 2025-10-16 11:34:14 -0400 (Thu, 16 Oct 2025) EllapsedTime: 42.3 seconds RetCode: 0 Status: OK PackageFile: ObMiTi_1.17.0.tar.gz PackageFileSize: 46.73 KiB