Package: ObMiTi Version: 1.17.0 Command: /home/biocbuild/bbs-3.22-bioc/R/bin/R CMD INSTALL ObMiTi StartedAt: 2025-10-16 10:59:12 -0400 (Thu, 16 Oct 2025) EndedAt: 2025-10-16 10:59:40 -0400 (Thu, 16 Oct 2025) EllapsedTime: 28.3 seconds RetCode: 0 Status: OK