Package: PepsNMRData Version: 1.28.0 Command: /home/biocbuild/bbs-3.22-bioc/R/bin/R CMD build --keep-empty-dirs --no-resave-data PepsNMRData StartedAt: 2025-11-20 11:38:54 -0500 (Thu, 20 Nov 2025) EndedAt: 2025-11-20 11:39:08 -0500 (Thu, 20 Nov 2025) EllapsedTime: 14.2 seconds RetCode: 0 Status: OK PackageFile: PepsNMRData_1.28.0.tar.gz PackageFileSize: 31.89 MiB