Package: PepsNMRData Version: 1.28.0 Command: /home/biocbuild/bbs-3.22-bioc/R/bin/R CMD INSTALL PepsNMRData StartedAt: 2025-11-20 10:55:46 -0500 (Thu, 20 Nov 2025) EndedAt: 2025-11-20 10:55:58 -0500 (Thu, 20 Nov 2025) EllapsedTime: 12.5 seconds RetCode: 0 Status: OK