Package: PhyloProfileData Version: 1.24.0 Command: /home/biocbuild/bbs-3.22-bioc/R/bin/R CMD build --keep-empty-dirs --no-resave-data PhyloProfileData StartedAt: 2025-10-30 11:45:25 -0400 (Thu, 30 Oct 2025) EndedAt: 2025-10-30 11:46:13 -0400 (Thu, 30 Oct 2025) EllapsedTime: 47.3 seconds RetCode: 0 Status: OK PackageFile: PhyloProfileData_1.24.0.tar.gz PackageFileSize: 227.9 KiB