Package: PhyloProfileData Version: 1.24.0 Command: /home/biocbuild/bbs-3.22-bioc/R/bin/R CMD INSTALL PhyloProfileData StartedAt: 2025-10-30 10:58:50 -0400 (Thu, 30 Oct 2025) EndedAt: 2025-10-30 10:59:15 -0400 (Thu, 30 Oct 2025) EllapsedTime: 24.4 seconds RetCode: 0 Status: OK