Package: QDNAseq.hg19 Version: 1.39.0 Command: /home/biocbuild/bbs-3.22-bioc/R/bin/R CMD INSTALL QDNAseq.hg19 StartedAt: 2025-10-21 11:03:48 -0400 (Tue, 21 Oct 2025) EndedAt: 2025-10-21 11:04:01 -0400 (Tue, 21 Oct 2025) EllapsedTime: 13.3 seconds RetCode: 0 Status: OK