Package: RTCGA.RPPA Version: 1.38.0 Command: /home/biocbuild/bbs-3.22-bioc/R/bin/R CMD build --keep-empty-dirs --no-resave-data RTCGA.RPPA StartedAt: 2025-11-04 11:40:33 -0500 (Tue, 04 Nov 2025) EndedAt: 2025-11-04 11:40:49 -0500 (Tue, 04 Nov 2025) EllapsedTime: 15.4 seconds RetCode: 0 Status: OK PackageFile: RTCGA.RPPA_1.38.0.tar.gz PackageFileSize: 13.09 MiB