Package: RTCGA.RPPA Version: 1.38.0 Command: /home/biocbuild/bbs-3.22-bioc/R/bin/R CMD INSTALL RTCGA.RPPA StartedAt: 2025-10-30 11:08:07 -0400 (Thu, 30 Oct 2025) EndedAt: 2025-10-30 11:08:21 -0400 (Thu, 30 Oct 2025) EllapsedTime: 13.6 seconds RetCode: 0 Status: OK