Package: RTCGA.methylation Version: 1.37.0 Command: /home/biocbuild/bbs-3.22-bioc/R/bin/R CMD build --keep-empty-dirs --no-resave-data RTCGA.methylation StartedAt: 2025-10-16 11:38:43 -0400 (Thu, 16 Oct 2025) EndedAt: 2025-10-16 11:41:53 -0400 (Thu, 16 Oct 2025) EllapsedTime: 190.7 seconds RetCode: 0 Status: OK PackageFile: RTCGA.methylation_1.37.0.tar.gz PackageFileSize: 622.8 MiB