Package: RforProteomics Version: 1.47.2 Command: /home/biocbuild/bbs-3.22-bioc/R/bin/R CMD INSTALL RforProteomics StartedAt: 2025-10-07 11:01:18 -0400 (Tue, 07 Oct 2025) EndedAt: 2025-10-07 11:01:55 -0400 (Tue, 07 Oct 2025) EllapsedTime: 36.8 seconds RetCode: 0 Status: OK