Package: RnaSeqSampleSizeData Version: 1.41.0 Command: /home/biocbuild/bbs-3.22-bioc/R/bin/R CMD build --keep-empty-dirs --no-resave-data RnaSeqSampleSizeData StartedAt: 2025-10-16 11:38:04 -0400 (Thu, 16 Oct 2025) EndedAt: 2025-10-16 11:38:11 -0400 (Thu, 16 Oct 2025) EllapsedTime: 6.3 seconds RetCode: 0 Status: OK PackageFile: RnaSeqSampleSizeData_1.41.0.tar.gz PackageFileSize: 6.036 MiB