Package: SCLCBam Version: 1.42.0 Command: /home/biocbuild/bbs-3.22-bioc/R/bin/R CMD INSTALL SCLCBam StartedAt: 2025-11-20 10:55:19 -0500 (Thu, 20 Nov 2025) EndedAt: 2025-11-20 10:55:21 -0500 (Thu, 20 Nov 2025) EllapsedTime: 2.3 seconds RetCode: 0 Status: OK