Package: SimBenchData Version: 1.17.0 Command: /home/biocbuild/bbs-3.22-bioc/R/bin/R CMD INSTALL SimBenchData StartedAt: 2025-07-10 10:57:21 -0400 (Thu, 10 Jul 2025) EndedAt: 2025-07-10 10:57:36 -0400 (Thu, 10 Jul 2025) EllapsedTime: 15.3 seconds RetCode: 0 Status: OK