Package: Single.mTEC.Transcriptomes Version: 1.38.0 Maintainer: Alejandro Reyes MaintainerEmail: alejandro.reyes.ds at gmail.com git_url: https://git.bioconductor.org/packages/Single.mTEC.Transcriptomes git_branch: RELEASE_3_22 git_last_commit: a2d5fc4 git_last_commit_date: 2025-10-29 09:57:25 -0400 (Wed, 29 Oct 2025)