Package: Single.mTEC.Transcriptomes Version: 1.37.0 Command: /home/biocbuild/bbs-3.22-bioc/R/bin/R CMD build --keep-empty-dirs --no-resave-data Single.mTEC.Transcriptomes StartedAt: 2025-07-24 11:43:22 -0400 (Thu, 24 Jul 2025) EndedAt: 2025-07-24 11:47:29 -0400 (Thu, 24 Jul 2025) EllapsedTime: 246.5 seconds RetCode: 1 Status: ERROR PackageFile: None PackageFileSize: NA