Package: TCGAWorkflowData Version: 1.33.0 Command: /home/biocbuild/bbs-3.22-bioc/R/bin/R CMD INSTALL TCGAWorkflowData StartedAt: 2025-07-17 11:03:37 -0400 (Thu, 17 Jul 2025) EndedAt: 2025-07-17 11:04:38 -0400 (Thu, 17 Jul 2025) EllapsedTime: 60.7 seconds RetCode: 0 Status: OK