Package: TENxBrainData Version: 1.30.0 Command: /home/biocbuild/bbs-3.22-bioc/R/bin/R CMD INSTALL TENxBrainData StartedAt: 2025-11-18 10:59:43 -0500 (Tue, 18 Nov 2025) EndedAt: 2025-11-18 11:00:14 -0500 (Tue, 18 Nov 2025) EllapsedTime: 31.0 seconds RetCode: 0 Status: OK