Package: TENxPBMCData Version: 1.28.0 Command: /home/biocbuild/bbs-3.22-bioc/R/bin/R CMD INSTALL TENxPBMCData StartedAt: 2025-11-20 10:59:25 -0500 (Thu, 20 Nov 2025) EndedAt: 2025-11-20 11:00:04 -0500 (Thu, 20 Nov 2025) EllapsedTime: 39.0 seconds RetCode: 0 Status: OK