Package: TransOmicsData Version: 1.5.0 Command: /home/biocbuild/bbs-3.22-bioc/R/bin/R CMD build --keep-empty-dirs --no-resave-data TransOmicsData StartedAt: 2025-10-14 11:47:17 -0400 (Tue, 14 Oct 2025) EndedAt: 2025-10-14 11:47:33 -0400 (Tue, 14 Oct 2025) EllapsedTime: 15.4 seconds RetCode: 0 Status: OK PackageFile: TransOmicsData_1.5.0.tar.gz PackageFileSize: 232.7 KiB