Package: VectraPolarisData Version: 1.13.0 Command: /home/biocbuild/bbs-3.22-bioc/R/bin/R CMD build --keep-empty-dirs --no-resave-data VectraPolarisData StartedAt: 2025-07-10 11:48:01 -0400 (Thu, 10 Jul 2025) EndedAt: 2025-07-10 11:49:37 -0400 (Thu, 10 Jul 2025) EllapsedTime: 96.4 seconds RetCode: 0 Status: OK PackageFile: VectraPolarisData_1.13.0.tar.gz PackageFileSize: 794.1 KiB