Back to Build/check report for BioC 3.22 experimental data
A[B]CDEFGHIJKLMNOPQRSTUVWXYZ

This page was generated on 2025-10-30 15:35 -0400 (Thu, 30 Oct 2025).

HostnameOSArch (*)R versionInstalled pkgs
nebbiolo2Linux (Ubuntu 24.04.3 LTS)x86_644.5.1 Patched (2025-08-23 r88802) -- "Great Square Root" 4901
Click on any hostname to see more info about the system (e.g. compilers)      (*) as reported by 'uname -p', except on Windows and Mac OS X

All results for package beta7


To the developers/maintainers of the beta7 package:
- Use the following Renviron settings to reproduce errors and warnings.
- If 'R CMD check' started to fail recently on the Linux builder(s) over a missing dependency, add the missing dependency to 'Suggests:' in your DESCRIPTION file. See Renviron.bioc for more information.

raw results

Package 25/435HostnameOS / ArchINSTALLBUILDCHECK
beta7 1.48.0  (landing page)
Jean Yang
Snapshot Date: 2025-10-30 07:30 -0400 (Thu, 30 Oct 2025)
git_url: https://git.bioconductor.org/packages/beta7
git_branch: RELEASE_3_22
git_last_commit: 9ae99c0
git_last_commit_date: 2025-10-29 09:23:18 -0400 (Wed, 29 Oct 2025)
nebbiolo2Linux (Ubuntu 24.04.3 LTS) / x86_64  OK    OK    WARNINGS  YES