Package: biscuiteerData Version: 1.23.1 Command: /home/biocbuild/bbs-3.22-bioc/R/bin/R CMD INSTALL biscuiteerData StartedAt: 2025-10-14 10:58:30 -0400 (Tue, 14 Oct 2025) EndedAt: 2025-10-14 10:58:50 -0400 (Tue, 14 Oct 2025) EllapsedTime: 20.3 seconds RetCode: 0 Status: OK