Package: blimaTestingData Version: 1.30.0 Maintainer: Vojtech Kulvait MaintainerEmail: kulvait at gmail.com git_url: https://git.bioconductor.org/packages/blimaTestingData git_branch: RELEASE_3_22 git_last_commit: e530fdf git_last_commit_date: 2025-10-29 09:55:05 -0500 (Wed, 29 Oct 2025)