Package: breakpointRdata Version: 1.28.0 Command: /home/biocbuild/bbs-3.22-bioc/R/bin/R CMD build --keep-empty-dirs --no-resave-data breakpointRdata StartedAt: 2025-10-30 11:12:51 -0400 (Thu, 30 Oct 2025) EndedAt: 2025-10-30 11:13:10 -0400 (Thu, 30 Oct 2025) EllapsedTime: 19.8 seconds RetCode: 0 Status: OK PackageFile: breakpointRdata_1.28.0.tar.gz PackageFileSize: 69.47 MiB