Package: breakpointRdata Version: 1.28.0 Command: /home/biocbuild/bbs-3.22-bioc/R/bin/R CMD INSTALL breakpointRdata StartedAt: 2025-10-30 10:56:15 -0400 (Thu, 30 Oct 2025) EndedAt: 2025-10-30 10:56:23 -0400 (Thu, 30 Oct 2025) EllapsedTime: 8.0 seconds RetCode: 0 Status: OK