Package: celldex Version: 1.19.0 Command: /home/biocbuild/bbs-3.22-bioc/R/bin/R CMD INSTALL celldex StartedAt: 2025-10-23 11:04:14 -0400 (Thu, 23 Oct 2025) EndedAt: 2025-10-23 11:04:51 -0400 (Thu, 23 Oct 2025) EllapsedTime: 37.4 seconds RetCode: 0 Status: OK