Package: curatedAdipoChIP Version: 1.25.0 Command: /home/biocbuild/bbs-3.22-bioc/R/bin/R CMD INSTALL curatedAdipoChIP StartedAt: 2025-10-09 11:01:46 -0400 (Thu, 09 Oct 2025) EndedAt: 2025-10-09 11:02:14 -0400 (Thu, 09 Oct 2025) EllapsedTime: 27.5 seconds RetCode: 0 Status: OK