Package: curatedBreastData Version: 2.38.0 Command: /home/biocbuild/bbs-3.22-bioc/R/bin/R CMD INSTALL curatedBreastData StartedAt: 2025-11-20 10:58:10 -0500 (Thu, 20 Nov 2025) EndedAt: 2025-11-20 10:58:19 -0500 (Thu, 20 Nov 2025) EllapsedTime: 8.4 seconds RetCode: 0 Status: OK