Package: curatedCRCData Version: 2.42.0 Command: /home/biocbuild/bbs-3.22-bioc/R/bin/R CMD build --keep-empty-dirs --no-resave-data curatedCRCData StartedAt: 2025-10-30 11:17:28 -0400 (Thu, 30 Oct 2025) EndedAt: 2025-10-30 11:19:08 -0400 (Thu, 30 Oct 2025) EllapsedTime: 100.7 seconds RetCode: 0 Status: OK PackageFile: curatedCRCData_2.42.0.tar.gz PackageFileSize: 398.8 MiB