Package: curatedCRCData Version: 2.42.0 Command: /home/biocbuild/bbs-3.22-bioc/R/bin/R CMD INSTALL curatedCRCData StartedAt: 2025-10-30 10:56:51 -0400 (Thu, 30 Oct 2025) EndedAt: 2025-10-30 10:56:55 -0400 (Thu, 30 Oct 2025) EllapsedTime: 3.8 seconds RetCode: 0 Status: OK