Package: curatedTCGAData Version: 1.32.1 Command: /home/biocbuild/bbs-3.22-bioc/R/bin/R CMD INSTALL curatedTCGAData StartedAt: 2025-11-25 10:59:19 -0500 (Tue, 25 Nov 2025) EndedAt: 2025-11-25 10:59:47 -0500 (Tue, 25 Nov 2025) EllapsedTime: 28.1 seconds RetCode: 0 Status: OK