Package: ffpeExampleData Version: 1.47.0 Command: /home/biocbuild/bbs-3.22-bioc/R/bin/R CMD INSTALL ffpeExampleData StartedAt: 2025-07-10 11:03:27 -0400 (Thu, 10 Jul 2025) EndedAt: 2025-07-10 11:04:01 -0400 (Thu, 10 Jul 2025) EllapsedTime: 33.8 seconds RetCode: 0 Status: OK