Package: gDNAinRNAseqData Version: 1.9.0 Command: /home/biocbuild/bbs-3.22-bioc/R/bin/R CMD build --keep-empty-dirs --no-resave-data gDNAinRNAseqData StartedAt: 2025-10-07 11:18:07 -0400 (Tue, 07 Oct 2025) EndedAt: 2025-10-07 11:18:51 -0400 (Tue, 07 Oct 2025) EllapsedTime: 43.6 seconds RetCode: 0 Status: OK PackageFile: gDNAinRNAseqData_1.9.0.tar.gz PackageFileSize: 296.1 KiB