Package: gDRtestData Version: 1.7.3 Command: /home/biocbuild/bbs-3.22-bioc/R/bin/R CMD INSTALL gDRtestData StartedAt: 2025-10-16 10:55:57 -0400 (Thu, 16 Oct 2025) EndedAt: 2025-10-16 10:56:00 -0400 (Thu, 16 Oct 2025) EllapsedTime: 2.9 seconds RetCode: 0 Status: OK