Package: geneLenDataBase Version: 1.45.0 Command: /home/biocbuild/bbs-3.22-bioc/R/bin/R CMD INSTALL geneLenDataBase StartedAt: 2025-10-16 11:02:30 -0400 (Thu, 16 Oct 2025) EndedAt: 2025-10-16 11:03:55 -0400 (Thu, 16 Oct 2025) EllapsedTime: 84.2 seconds RetCode: 0 Status: OK