Package: harbChIP Version: 1.47.0 Command: /home/biocbuild/bbs-3.22-bioc/R/bin/R CMD build --keep-empty-dirs --no-resave-data harbChIP StartedAt: 2025-10-16 11:20:47 -0400 (Thu, 16 Oct 2025) EndedAt: 2025-10-16 11:21:10 -0400 (Thu, 16 Oct 2025) EllapsedTime: 22.7 seconds RetCode: 0 Status: OK PackageFile: harbChIP_1.47.0.tar.gz PackageFileSize: 7.204 MiB