Package: healthyFlowData Version: 1.48.0 Command: /home/biocbuild/bbs-3.22-bioc/R/bin/R CMD INSTALL healthyFlowData StartedAt: 2025-11-13 10:56:32 -0500 (Thu, 13 Nov 2025) EndedAt: 2025-11-13 10:56:36 -0500 (Thu, 13 Nov 2025) EllapsedTime: 3.7 seconds RetCode: 0 Status: OK